BEGIN:VCALENDAR
VERSION:2.0
PRODID:-//Uit Hilversum - ECPv6.15.20//NONSGML v1.0//EN
CALSCALE:GREGORIAN
METHOD:PUBLISH
X-ORIGINAL-URL:https://www.uithilversum.com
X-WR-CALDESC:Evenementen voor Uit Hilversum
REFRESH-INTERVAL;VALUE=DURATION:PT1H
X-Robots-Tag:noindex
X-PUBLISHED-TTL:PT1H
BEGIN:VTIMEZONE
TZID:UTC
BEGIN:STANDARD
TZOFFSETFROM:+0000
TZOFFSETTO:+0000
TZNAME:UTC
DTSTART:20250101T000000
END:STANDARD
END:VTIMEZONE
BEGIN:VEVENT
DTSTART;TZID=UTC:20260529T180000
DTEND;TZID=UTC:20260529T223000
DTSTAMP:20260421T174311
CREATED:20260421T131400Z
LAST-MODIFIED:20260421T131422Z
UID:1736-1780077600-1780093800@www.uithilversum.com
SUMMARY:Afrikadagavond
DESCRIPTION:Verkenning van Cultuur en Literatuur\nKom op 29ste mei naar de Bibliotheek Hilversum voor een onvergetelijke avond vol muziek\, poëzie en inspirerende dialogue!\nGeniet van live muziek die je meeneemt op een muzikale reis door Afrika. Laat je betoveren door de woorden van onze speciale gast\, een beruchte diaspora schrijver uit Liberia\, die zijn passie en verhalen met ons deelt.\nDeze intieme setting biedt een unieke kans om in gesprek te gaan over literatuur en cultuur\, en om te luisteren naar prachtige gedichten die de diversiteit en rijkdom van de Afrikaanse geschiedenis en hedendaagse ervaringen vieren.
URL:https://www.uithilversum.com/event/afrikadagavond/
LOCATION:Bibliotheek Hilversum\, 's-Gravelandseweg 55\, Hilversum\, Noord-Holland\, 1217 EH\, Netherlands
ATTACH;FMTTYPE=image/jpeg:https://www.uithilversum.com/wp-content/uploads/2026/04/Afrikadag.jpg
ORGANIZER;CN="Stichting Hilversum One":MAILTO:info@stichtingonehilversum.nl
END:VEVENT
END:VCALENDAR